BEGIN:VCALENDAR
VERSION:2.0
PRODID:-//Greenwood Brewing - ECPv6.15.20//NONSGML v1.0//EN
CALSCALE:GREGORIAN
METHOD:PUBLISH
X-WR-CALNAME:Greenwood Brewing
X-ORIGINAL-URL:https://greenwoodbrews.com
X-WR-CALDESC:Events for Greenwood Brewing
REFRESH-INTERVAL;VALUE=DURATION:PT1H
X-Robots-Tag:noindex
X-PUBLISHED-TTL:PT1H
BEGIN:VTIMEZONE
TZID:America/Phoenix
BEGIN:STANDARD
TZOFFSETFROM:-0700
TZOFFSETTO:-0700
TZNAME:MST
DTSTART:20200101T000000
END:STANDARD
END:VTIMEZONE
BEGIN:VEVENT
DTSTART;TZID=America/Phoenix:20240427T140000
DTEND;TZID=America/Phoenix:20240427T220000
DTSTAMP:20260420T090910
CREATED:20240410T032420Z
LAST-MODIFIED:20240426T184838Z
UID:4732-1714226400-1714255200@greenwoodbrews.com
SUMMARY:Lost Burro Tacos & Stuff Food Truck
DESCRIPTION:
URL:https://greenwoodbrews.com/event/los-burro-tacos-stuff-food-truck/
CATEGORIES:Food Truck
END:VEVENT
BEGIN:VEVENT
DTSTART;TZID=America/Phoenix:20240526T130000
DTEND;TZID=America/Phoenix:20240526T170000
DTSTAMP:20260420T090910
CREATED:20240425T031528Z
LAST-MODIFIED:20240426T184642Z
UID:4771-1716728400-1716742800@greenwoodbrews.com
SUMMARY:Food Pop-up in the Beer Garden (Sorelle)
DESCRIPTION:
URL:https://greenwoodbrews.com/event/food-pop-up-in-the-beer-garden-sorelle/
CATEGORIES:Food Truck,Public Event
END:VEVENT
BEGIN:VEVENT
DTSTART;TZID=America/Phoenix:20240413T120000
DTEND;TZID=America/Phoenix:20240413T170000
DTSTAMP:20260420T090910
CREATED:20240409T013256Z
LAST-MODIFIED:20240409T013410Z
UID:4721-1713009600-1713027600@greenwoodbrews.com
SUMMARY:Chula Seafood Pop-up in the Beer Garden
DESCRIPTION:
URL:https://greenwoodbrews.com/event/chula-seafood-pop-up-in-the-beer-garden/
CATEGORIES:Food Truck
ATTACH;FMTTYPE=image/png:https://greenwoodbrews.com/wp-content/uploads/2024/04/thumbnail_image2-1.png
END:VEVENT
BEGIN:VEVENT
DTSTART;TZID=America/Phoenix:20240316T170000
DTEND;TZID=America/Phoenix:20240316T210000
DTSTAMP:20260420T090910
CREATED:20240227T020319Z
LAST-MODIFIED:20240227T020612Z
UID:4645-1710608400-1710622800@greenwoodbrews.com
SUMMARY:KRAUTWORX St. Food at Greenwood
DESCRIPTION:KRAUTWORX St. Food is the Valleys’ best gourmet sausage cart! \nJoin us for St. Patrick’s Day festivities and elevate your celebration with a Green beer & brat. \n 
URL:https://greenwoodbrews.com/event/krautworx-st-food-at-greenwood/
CATEGORIES:Food Truck
ATTACH;FMTTYPE=image/jpeg:https://greenwoodbrews.com/wp-content/uploads/2024/02/k.jpeg
END:VEVENT
BEGIN:VEVENT
DTSTART;TZID=America/Phoenix:20240125T170000
DTEND;TZID=America/Phoenix:20240125T200000
DTSTAMP:20260420T090910
CREATED:20240116T185537Z
LAST-MODIFIED:20240116T185537Z
UID:4517-1706202000-1706212800@greenwoodbrews.com
SUMMARY:Food Truck: Taqueria AZ #1
DESCRIPTION:
URL:https://greenwoodbrews.com/event/food-truck-taqueria-az-1-4/
CATEGORIES:Food Truck
END:VEVENT
BEGIN:VEVENT
DTSTART;TZID=America/Phoenix:20240124T170000
DTEND;TZID=America/Phoenix:20240124T200000
DTSTAMP:20260420T090910
CREATED:20240116T184603Z
LAST-MODIFIED:20240116T184820Z
UID:4515-1706115600-1706126400@greenwoodbrews.com
SUMMARY:Food Truck: Taqueria AZ #1
DESCRIPTION:
URL:https://greenwoodbrews.com/event/food-truck-taqueria-az-1-3/
CATEGORIES:Food Truck
END:VEVENT
BEGIN:VEVENT
DTSTART;TZID=America/Phoenix:20240118T170000
DTEND;TZID=America/Phoenix:20240118T200000
DTSTAMP:20260420T090910
CREATED:20240116T180126Z
LAST-MODIFIED:20240116T180813Z
UID:4511-1705597200-1705608000@greenwoodbrews.com
SUMMARY:Food Truck: Taqueria AZ #1
DESCRIPTION:
URL:https://greenwoodbrews.com/event/food-truck-taqueria-az-1-2/
CATEGORIES:Food Truck
END:VEVENT
BEGIN:VEVENT
DTSTART;TZID=America/Phoenix:20240117T170000
DTEND;TZID=America/Phoenix:20240117T200000
DTSTAMP:20260420T090910
CREATED:20240116T175917Z
LAST-MODIFIED:20240116T184433Z
UID:4508-1705510800-1705521600@greenwoodbrews.com
SUMMARY:Food Truck: Taqueria AZ #1
DESCRIPTION:
URL:https://greenwoodbrews.com/event/food-truck-taqueria-az-1/
CATEGORIES:Food Truck
END:VEVENT
BEGIN:VEVENT
DTSTART;TZID=America/Phoenix:20230225T180000
DTEND;TZID=America/Phoenix:20230225T220000
DTSTAMP:20260420T090910
CREATED:20230206T230743Z
LAST-MODIFIED:20230206T230743Z
UID:3337-1677348000-1677362400@greenwoodbrews.com
SUMMARY:Food truck: Flavors Vegan
DESCRIPTION:
URL:https://greenwoodbrews.com/event/food-truck-flavors-vegan-3/
LOCATION:Food Trucks\, 425 E Roosevelt St.\, Phoenix\, AZ\, 85004\, United States
CATEGORIES:Food Truck
ATTACH;FMTTYPE=image/png:https://greenwoodbrews.com/wp-content/uploads/2022/07/screen-shot-2022-07-05-at-4.46.22-pm-e1675724670627.png
END:VEVENT
BEGIN:VEVENT
DTSTART;VALUE=DATE:20230212
DTEND;VALUE=DATE:20230213
DTSTAMP:20260420T090910
CREATED:20230202T231539Z
LAST-MODIFIED:20230202T231539Z
UID:3276-1676160000-1676246399@greenwoodbrews.com
SUMMARY:Food Truck: B&G Catering
DESCRIPTION:
URL:https://greenwoodbrews.com/event/food-truck-bg-catering/
LOCATION:Food Trucks\, 425 E Roosevelt St.\, Phoenix\, AZ\, 85004\, United States
CATEGORIES:Food Truck
ATTACH;FMTTYPE=image/jpeg:https://greenwoodbrews.com/wp-content/uploads/2023/02/img_9146.jpg
END:VEVENT
BEGIN:VEVENT
DTSTART;TZID=America/Phoenix:20230211T170000
DTEND;TZID=America/Phoenix:20230211T220000
DTSTAMP:20260420T090910
CREATED:20230202T231643Z
LAST-MODIFIED:20230202T231643Z
UID:3278-1676134800-1676152800@greenwoodbrews.com
SUMMARY:Food Truck: Flyn' K BBQ
DESCRIPTION:
URL:https://greenwoodbrews.com/event/food-truck-flyn-k-bbq/
LOCATION:Food Trucks\, 425 E Roosevelt St.\, Phoenix\, AZ\, 85004\, United States
CATEGORIES:Food Truck
ATTACH;FMTTYPE=image/jpeg:https://greenwoodbrews.com/wp-content/uploads/2023/02/img_9147.jpg
END:VEVENT
BEGIN:VEVENT
DTSTART;TZID=America/Phoenix:20230210T180000
DTEND;TZID=America/Phoenix:20230210T220000
DTSTAMP:20260420T090910
CREATED:20230202T231731Z
LAST-MODIFIED:20230202T231731Z
UID:3280-1676052000-1676066400@greenwoodbrews.com
SUMMARY:Food Truck: Tacos La Familia
DESCRIPTION:
URL:https://greenwoodbrews.com/event/food-truck-tacos-la-familia-3/
LOCATION:Food Trucks\, 425 E Roosevelt St.\, Phoenix\, AZ\, 85004\, United States
CATEGORIES:Food Truck
ATTACH;FMTTYPE=image/jpeg:https://greenwoodbrews.com/wp-content/uploads/2023/02/img_9145.jpg
END:VEVENT
BEGIN:VEVENT
DTSTART;TZID=America/Phoenix:20221218T110000
DTEND;TZID=America/Phoenix:20221218T220000
DTSTAMP:20260420T090910
CREATED:20221010T211555Z
LAST-MODIFIED:20221027T000027Z
UID:2824-1671361200-1671400800@greenwoodbrews.com
SUMMARY:Sunday Funday!
DESCRIPTION:Join us every Sunday for Sunday Funday! We’ll have our famous flights for $10 all day long\, In the Now food from 1pm-4pm and Live Music 3-5pm. Let’s kick it back!. Let’s kick it back!
URL:https://greenwoodbrews.com/event/sunday-funday-9/
LOCATION:Greenwood Garden\, 425 E Roosevelt St.\, Phoenix\, AZ\, 85004\, United States
CATEGORIES:Food Truck,Public Event
ATTACH;FMTTYPE=image/png:https://greenwoodbrews.com/wp-content/uploads/2022/09/sundayfunday_social.png
ORGANIZER;CN="Greenwood Brewing":MAILTO:events@greenwoodbrews.com
END:VEVENT
BEGIN:VEVENT
DTSTART;VALUE=DATE:20221211
DTEND;VALUE=DATE:20221212
DTSTAMP:20260420T090910
CREATED:20221128T184418Z
LAST-MODIFIED:20221128T184418Z
UID:3002-1670716800-1670803199@greenwoodbrews.com
SUMMARY:Sunday Funday!
DESCRIPTION:Join us every Sunday for Sunday Funday! We’ll have our famous flights for $10 all day long\, In the Now food from 3pm-6pm and Live Music 3-5pm. Let’s kick it back!
URL:https://greenwoodbrews.com/event/sunday-funday-8/
LOCATION:Greenwood Garden\, 425 E Roosevelt St.\, Phoenix\, AZ\, 85004\, United States
CATEGORIES:Food Truck,Public Event
ATTACH;FMTTYPE=image/png:https://greenwoodbrews.com/wp-content/uploads/2022/09/sundayfunday_social.png
END:VEVENT
BEGIN:VEVENT
DTSTART;TZID=America/Phoenix:20221204T110000
DTEND;TZID=America/Phoenix:20221204T220000
DTSTAMP:20260420T090910
CREATED:20221010T211347Z
LAST-MODIFIED:20221026T235951Z
UID:2820-1670151600-1670191200@greenwoodbrews.com
SUMMARY:Sunday Funday!
DESCRIPTION:Join us every Sunday for Sunday Funday! We’ll have our famous flights for $10 all day long\, In the Now food from 1pm-4pm and Live Music 3-5pm. Let’s kick it back!
URL:https://greenwoodbrews.com/event/sunday-funday-7/
LOCATION:Greenwood Garden\, 425 E Roosevelt St.\, Phoenix\, AZ\, 85004\, United States
CATEGORIES:Food Truck,Public Event
ATTACH;FMTTYPE=image/png:https://greenwoodbrews.com/wp-content/uploads/2022/09/sundayfunday_social.png
ORGANIZER;CN="Greenwood Brewing":MAILTO:events@greenwoodbrews.com
END:VEVENT
BEGIN:VEVENT
DTSTART;TZID=America/Phoenix:20221127T110000
DTEND;TZID=America/Phoenix:20221127T220000
DTSTAMP:20260420T090910
CREATED:20221010T211129Z
LAST-MODIFIED:20221027T000143Z
UID:2818-1669546800-1669586400@greenwoodbrews.com
SUMMARY:Sunday Funday!
DESCRIPTION:Join us every Sunday for Sunday Funday! We’ll have our famous flights for $10 all day long\, In the Now food from 1pm-4pm and Live Music 3-5pm. Let’s kick it back!
URL:https://greenwoodbrews.com/event/sunday-funday-6/
LOCATION:Greenwood Garden\, 425 E Roosevelt St.\, Phoenix\, AZ\, 85004\, United States
CATEGORIES:Food Truck,Public Event
ATTACH;FMTTYPE=image/png:https://greenwoodbrews.com/wp-content/uploads/2022/09/sundayfunday_social.png
END:VEVENT
BEGIN:VEVENT
DTSTART;TZID=America/Phoenix:20221113T110000
DTEND;TZID=America/Phoenix:20221113T220000
DTSTAMP:20260420T090910
CREATED:20221010T210741Z
LAST-MODIFIED:20221027T000306Z
UID:2816-1668337200-1668376800@greenwoodbrews.com
SUMMARY:Sunday Funday!
DESCRIPTION:Join us every Sunday for Sunday Funday! We’ll have our famous flights for $10 all day long\, In the Now food from 1pm-4pm and Live Music 3-5pm. Let’s kick it back!
URL:https://greenwoodbrews.com/event/sunday-funday-5/
LOCATION:Greenwood Garden\, 425 E Roosevelt St.\, Phoenix\, AZ\, 85004\, United States
CATEGORIES:Food Truck,Public Event
ATTACH;FMTTYPE=image/png:https://greenwoodbrews.com/wp-content/uploads/2022/09/sundayfunday_social.png
END:VEVENT
BEGIN:VEVENT
DTSTART;TZID=America/Phoenix:20221106T110000
DTEND;TZID=America/Phoenix:20221106T220000
DTSTAMP:20260420T090910
CREATED:20221010T210646Z
LAST-MODIFIED:20221027T000336Z
UID:2814-1667732400-1667772000@greenwoodbrews.com
SUMMARY:Sunday Funday!
DESCRIPTION:Join us every Sunday for Sunday Funday! We’ll have our famous flights for $10 all day long\, In the Now food from 1pm-4pm and Live Music 3-5pm. Let’s kick it back!
URL:https://greenwoodbrews.com/event/sunday-funday-4/
LOCATION:Greenwood Garden\, 425 E Roosevelt St.\, Phoenix\, AZ\, 85004\, United States
CATEGORIES:Food Truck,Public Event
ATTACH;FMTTYPE=image/png:https://greenwoodbrews.com/wp-content/uploads/2022/09/sundayfunday_social.png
END:VEVENT
BEGIN:VEVENT
DTSTART;TZID=America/Phoenix:20221030T110000
DTEND;TZID=America/Phoenix:20221030T220000
DTSTAMP:20260420T090910
CREATED:20221010T205341Z
LAST-MODIFIED:20221027T000414Z
UID:2810-1667127600-1667167200@greenwoodbrews.com
SUMMARY:Sunday Funday!
DESCRIPTION:Join us every Sunday for Sunday Funday! We’ll have our famous flights for $10 all day long\, In the Now food from 1pm-4pm and Live Music 3-5pm. Let’s kick it back!
URL:https://greenwoodbrews.com/event/sunday-funday-3/
LOCATION:Greenwood Garden\, 425 E Roosevelt St.\, Phoenix\, AZ\, 85004\, United States
CATEGORIES:Food Truck,Public Event
ATTACH;FMTTYPE=image/png:https://greenwoodbrews.com/wp-content/uploads/2022/09/sundayfunday_social.png
ORGANIZER;CN="Greenwood Brewing":MAILTO:events@greenwoodbrews.com
END:VEVENT
BEGIN:VEVENT
DTSTART;TZID=America/Phoenix:20221023T110000
DTEND;TZID=America/Phoenix:20221023T220000
DTSTAMP:20260420T090910
CREATED:20221010T205201Z
LAST-MODIFIED:20221010T205201Z
UID:2808-1666522800-1666562400@greenwoodbrews.com
SUMMARY:Sunday Funday!
DESCRIPTION:Join us every Sunday for Sunday Funday! We’ll have our famous flights for $10 all day long\, In the Now food from 11am-2pm and Live Music 1-3pm. Let’s kick it back!
URL:https://greenwoodbrews.com/event/sunday-funday-2/
LOCATION:Greenwood Garden\, 425 E Roosevelt St.\, Phoenix\, AZ\, 85004\, United States
CATEGORIES:Food Truck,Public Event
ATTACH;FMTTYPE=image/png:https://greenwoodbrews.com/wp-content/uploads/2022/09/sundayfunday_social.png
ORGANIZER;CN="Greenwood Brewing":MAILTO:events@greenwoodbrews.com
END:VEVENT
BEGIN:VEVENT
DTSTART;TZID=America/Phoenix:20221016T110000
DTEND;TZID=America/Phoenix:20221016T220000
DTSTAMP:20260420T090910
CREATED:20221010T205033Z
LAST-MODIFIED:20221010T213448Z
UID:2806-1665918000-1665957600@greenwoodbrews.com
SUMMARY:Sunday Funday!
DESCRIPTION:Join us every Sunday for Sunday Funday! We’ll have our famous flights for $10 all day long\, In the Now food from 11am-2pm and Live Music with Simon Crown 1-3pm. Let’s kick it back!
URL:https://greenwoodbrews.com/event/sunday-funday/
LOCATION:Greenwood Garden\, 425 E Roosevelt St.\, Phoenix\, AZ\, 85004\, United States
CATEGORIES:Food Truck,Public Event
ATTACH;FMTTYPE=image/png:https://greenwoodbrews.com/wp-content/uploads/2022/09/sundayfunday_social.png
ORGANIZER;CN="Greenwood Brewing":MAILTO:events@greenwoodbrews.com
END:VEVENT
BEGIN:VEVENT
DTSTART;TZID=America/Phoenix:20220723T190000
DTEND;TZID=America/Phoenix:20220723T220000
DTSTAMP:20260420T090910
CREATED:20220705T235106Z
LAST-MODIFIED:20220705T235106Z
UID:2399-1658602800-1658613600@greenwoodbrews.com
SUMMARY:Flavors Plant-Based Vegan
DESCRIPTION:Who doesn’t love food trucks at breweries? Check out their menu at https://flavorsplantbased.com/
URL:https://greenwoodbrews.com/event/flavors-plant-based-vegan-2/
LOCATION:Greenwood Brewery\, 425 E Roosevelt St.\, Phoenix\, AZ\, 85004\, United States
CATEGORIES:Food Truck
ATTACH;FMTTYPE=image/png:https://greenwoodbrews.com/wp-content/uploads/2022/07/screen-shot-2022-07-05-at-4.46.22-pm-e1675724670627.png
END:VEVENT
BEGIN:VEVENT
DTSTART;TZID=America/Phoenix:20220722T190000
DTEND;TZID=America/Phoenix:20220722T220000
DTSTAMP:20260420T090910
CREATED:20220705T234819Z
LAST-MODIFIED:20220705T234926Z
UID:2395-1658516400-1658527200@greenwoodbrews.com
SUMMARY:Flavors Plant-Based Vegan
DESCRIPTION:Who doesn’t love food trucks at breweries? Check out their menu at https://flavorsplantbased.com/
URL:https://greenwoodbrews.com/event/flavors-plant-based-vegan/
LOCATION:Greenwood Brewery\, 425 E Roosevelt St.\, Phoenix\, AZ\, 85004\, United States
CATEGORIES:Food Truck
ATTACH;FMTTYPE=image/png:https://greenwoodbrews.com/wp-content/uploads/2022/07/screen-shot-2022-07-05-at-4.46.22-pm-e1675724670627.png
END:VEVENT
BEGIN:VEVENT
DTSTART;TZID=America/Phoenix:20220408T170000
DTEND;TZID=America/Phoenix:20220408T210000
DTSTAMP:20260420T090910
CREATED:20220415T155337Z
LAST-MODIFIED:20220407T174428Z
UID:2162-1649437200-1649451600@greenwoodbrews.com
SUMMARY:Flavors Vegan - Food Truck
DESCRIPTION:
URL:https://greenwoodbrews.com/event/flavors-vegan-food-truck/
CATEGORIES:Food Truck,Public Event
END:VEVENT
BEGIN:VEVENT
DTSTART;TZID=America/Phoenix:20220128T170000
DTEND;TZID=America/Phoenix:20220128T210000
DTSTAMP:20260420T090910
CREATED:20220117T202449Z
LAST-MODIFIED:20220117T202449Z
UID:1881-1643389200-1643403600@greenwoodbrews.com
SUMMARY:LoFi Eats
DESCRIPTION:
URL:https://greenwoodbrews.com/event/lofi-eats-11/
LOCATION:Food Trucks\, 425 E Roosevelt St.\, Phoenix\, AZ\, 85004\, United States
CATEGORIES:Food Truck
END:VEVENT
BEGIN:VEVENT
DTSTART;TZID=America/Phoenix:20220122T170000
DTEND;TZID=America/Phoenix:20220122T210000
DTSTAMP:20260420T090910
CREATED:20220117T202527Z
LAST-MODIFIED:20220117T202549Z
UID:1884-1642870800-1642885200@greenwoodbrews.com
SUMMARY:Salsa Bites
DESCRIPTION:
URL:https://greenwoodbrews.com/event/salsa-bites/
LOCATION:Food Trucks\, 425 E Roosevelt St.\, Phoenix\, AZ\, 85004\, United States
CATEGORIES:Food Truck
END:VEVENT
BEGIN:VEVENT
DTSTART;TZID=America/Phoenix:20211230T170000
DTEND;TZID=America/Phoenix:20211230T210000
DTSTAMP:20260420T090910
CREATED:20211105T213155Z
LAST-MODIFIED:20211105T213155Z
UID:1666-1640883600-1640898000@greenwoodbrews.com
SUMMARY:LoFi Eats
DESCRIPTION:
URL:https://greenwoodbrews.com/event/lofi-eats-10/
LOCATION:Food Trucks\, 425 E Roosevelt St.\, Phoenix\, AZ\, 85004\, United States
CATEGORIES:Food Truck
END:VEVENT
BEGIN:VEVENT
DTSTART;TZID=America/Phoenix:20211226T110000
DTEND;TZID=America/Phoenix:20211226T140000
DTSTAMP:20260420T090910
CREATED:20211105T213230Z
LAST-MODIFIED:20211105T213230Z
UID:1668-1640516400-1640527200@greenwoodbrews.com
SUMMARY:Flavor Comfort Food
DESCRIPTION:
URL:https://greenwoodbrews.com/event/flavor-comfort-food-3/
LOCATION:Food Trucks\, 425 E Roosevelt St.\, Phoenix\, AZ\, 85004\, United States
CATEGORIES:Food Truck
END:VEVENT
BEGIN:VEVENT
DTSTART;TZID=America/Phoenix:20211217T170000
DTEND;TZID=America/Phoenix:20211217T210000
DTSTAMP:20260420T090910
CREATED:20211105T213122Z
LAST-MODIFIED:20211105T213122Z
UID:1664-1639760400-1639774800@greenwoodbrews.com
SUMMARY:LoFi Eats
DESCRIPTION:
URL:https://greenwoodbrews.com/event/lofi-eats-9/
LOCATION:Food Trucks\, 425 E Roosevelt St.\, Phoenix\, AZ\, 85004\, United States
CATEGORIES:Food Truck
END:VEVENT
BEGIN:VEVENT
DTSTART;TZID=America/Phoenix:20211211T170000
DTEND;TZID=America/Phoenix:20211211T210000
DTSTAMP:20260420T090910
CREATED:20211105T213046Z
LAST-MODIFIED:20211105T213046Z
UID:1662-1639242000-1639256400@greenwoodbrews.com
SUMMARY:Flavor Comfort Food
DESCRIPTION:
URL:https://greenwoodbrews.com/event/flavor-comfort-food-2/
LOCATION:Food Trucks\, 425 E Roosevelt St.\, Phoenix\, AZ\, 85004\, United States
CATEGORIES:Food Truck
END:VEVENT
END:VCALENDAR