BEGIN:VCALENDAR
VERSION:2.0
PRODID:-//Greenwood Brewing - ECPv6.15.20//NONSGML v1.0//EN
CALSCALE:GREGORIAN
METHOD:PUBLISH
X-WR-CALNAME:Greenwood Brewing
X-ORIGINAL-URL:https://greenwoodbrews.com
X-WR-CALDESC:Events for Greenwood Brewing
REFRESH-INTERVAL;VALUE=DURATION:PT1H
X-Robots-Tag:noindex
X-PUBLISHED-TTL:PT1H
BEGIN:VTIMEZONE
TZID:America/Phoenix
BEGIN:STANDARD
TZOFFSETFROM:-0700
TZOFFSETTO:-0700
TZNAME:MST
DTSTART:20220101T000000
END:STANDARD
END:VTIMEZONE
BEGIN:VEVENT
DTSTART;VALUE=DATE:20230317
DTEND;VALUE=DATE:20230319
DTSTAMP:20260420T103430
CREATED:20230113T172926Z
LAST-MODIFIED:20230313T234121Z
UID:3157-1679011200-1679183999@greenwoodbrews.com
SUMMARY:St. Patrick's Day Weekend Celebration
DESCRIPTION:Live music Friday (Squydd 7-9pm)\, Saturday (Of Kith & Kin 2-4pm)\, and GREEN(wood) BEER!
URL:https://greenwoodbrews.com/event/st-patricks-day-celebration/
LOCATION:Greenwood Brewery\, 425 E Roosevelt St.\, Phoenix\, AZ\, 85004\, United States
CATEGORIES:Public Event
ATTACH;FMTTYPE=image/png:https://greenwoodbrews.com/wp-content/uploads/2023/01/saint-patricks-day-flyer-e1678750764336.png
END:VEVENT
BEGIN:VEVENT
DTSTART;TZID=America/Phoenix:20230316T180000
DTEND;TZID=America/Phoenix:20230316T230000
DTSTAMP:20260420T103430
CREATED:20230314T000131Z
LAST-MODIFIED:20230314T000131Z
UID:3451-1678989600-1679007600@greenwoodbrews.com
SUMMARY:Closing Early (6pm) For Private Event
DESCRIPTION:
URL:https://greenwoodbrews.com/event/closing-early-6pm-for-private-event/
CATEGORIES:Public Event
ATTACH;FMTTYPE=image/jpeg:https://greenwoodbrews.com/wp-content/uploads/2023/03/closingearly.jpg
END:VEVENT
BEGIN:VEVENT
DTSTART;TZID=America/Phoenix:20230315T170000
DTEND;TZID=America/Phoenix:20230315T230000
DTSTAMP:20260420T103430
CREATED:20230313T235552Z
LAST-MODIFIED:20230313T235552Z
UID:3448-1678899600-1678921200@greenwoodbrews.com
SUMMARY:Taylor Swift Night!
DESCRIPTION:Welcome to Taylor Swift\, Arizona! And welcome to Arizona\, Taylor Swift! Glendale temporarily changed its name and we’re playing all the eras all night this Wednesday 03/15 to get ready! It’s Taylor week\, where are our Swifties at?⁠
URL:https://greenwoodbrews.com/event/taylor-swift-night/
CATEGORIES:Public Event
ATTACH;FMTTYPE=image/jpeg:https://greenwoodbrews.com/wp-content/uploads/2023/03/taylor-swift-arizona.jpg
END:VEVENT
BEGIN:VEVENT
DTSTART;TZID=America/Phoenix:20230314T190000
DTEND;TZID=America/Phoenix:20230314T210000
DTSTAMP:20260420T103430
CREATED:20230113T173319Z
LAST-MODIFIED:20230314T000316Z
UID:3163-1678820400-1678827600@greenwoodbrews.com
SUMMARY:Trivia + March Madness
DESCRIPTION:For fun – wear your favorite women’s team jersey to Trivia!
URL:https://greenwoodbrews.com/event/march-madness/
LOCATION:Greenwood Brewery\, 425 E Roosevelt St.\, Phoenix\, AZ\, 85004\, United States
CATEGORIES:Public Event
ATTACH;FMTTYPE=image/jpeg:https://greenwoodbrews.com/wp-content/uploads/2022/08/img_2013-scaled-e1661191482977.jpg
END:VEVENT
BEGIN:VEVENT
DTSTART;TZID=America/Phoenix:20230313T080000
DTEND;TZID=America/Phoenix:20230313T170000
DTSTAMP:20260420T103430
CREATED:20230314T001934Z
LAST-MODIFIED:20230314T001934Z
UID:3463-1678694400-1678726800@greenwoodbrews.com
SUMMARY:Girl Scout Cookie Pairing + Tasting Board!
DESCRIPTION:Come grab a Girl Scout Cookie Pairing + Tasting Board from 1-4pm on Saturday\, March 25th! $2 of each board will be donated to Buckeye Troop 623! \n$20/board (4 cookies/4 samples)\, curated with love by our head brewer\, Kristin L.!
URL:https://greenwoodbrews.com/event/girl-scout-cookie-pairing-tasting-board/
END:VEVENT
BEGIN:VEVENT
DTSTART;TZID=America/Phoenix:20230312T113000
DTEND;TZID=America/Phoenix:20230312T140000
DTSTAMP:20260420T103430
CREATED:20230206T233451Z
LAST-MODIFIED:20230206T233451Z
UID:3339-1678620600-1678629600@greenwoodbrews.com
SUMMARY:Private Event in the Beer Garden
DESCRIPTION:
URL:https://greenwoodbrews.com/event/private-event-in-the-beer-garden-10/
LOCATION:Greenwood Garden\, 425 E Roosevelt St.\, Phoenix\, AZ\, 85004\, United States
CATEGORIES:Private Event
END:VEVENT
BEGIN:VEVENT
DTSTART;TZID=America/Phoenix:20230312T093000
DTEND;TZID=America/Phoenix:20230312T103000
DTSTAMP:20260420T103430
CREATED:20230302T005913Z
LAST-MODIFIED:20230302T005913Z
UID:3414-1678613400-1678617000@greenwoodbrews.com
SUMMARY:Yoga in the Garden (Celebration Of Women)
DESCRIPTION:Come get your groove on with a vinyasa flow in the Greenwood Garden + complimentary 4oz brew (beer 21+) \nAmy G.\, RYT 200 (registered yoga teacher) will guide you through a 45-min vinyasa flow in the Greenwood Brewing beer garden turned outdoor yoga studio! Good vibes only. Class is followed with a complimentary 4oz brew (beer is 21 and over only\, however all ages can enjoy yoga!). \nPlease bring your own mats (not provided)\, ID and wear clothes easy to move in. \nSecure your spot by purchasing a ticket! \nPurchase tickets here: https://www.eventbrite.com/e/sunday-yoga-greenwood-brewing-womens-history-month-celebration-tickets-568754789887
URL:https://greenwoodbrews.com/event/yoga-in-the-garden-celebration-of-women/
LOCATION:Greenwood Garden\, 425 E Roosevelt St.\, Phoenix\, AZ\, 85004\, United States
CATEGORIES:Public Event
ATTACH;FMTTYPE=image/jpeg:https://greenwoodbrews.com/wp-content/uploads/2022/10/img_2926-scaled-e1667925826197.jpg
END:VEVENT
BEGIN:VEVENT
DTSTART;TZID=America/Phoenix:20230311T130000
DTEND;TZID=America/Phoenix:20230311T150000
DTSTAMP:20260420T103430
CREATED:20230113T173544Z
LAST-MODIFIED:20230113T173544Z
UID:3165-1678539600-1678546800@greenwoodbrews.com
SUMMARY:Womxn Makers + Artists Market
DESCRIPTION:
URL:https://greenwoodbrews.com/event/womxn-makers-artists-market/
LOCATION:Greenwood Courtyard\, 425 E Roosevelt St.\, Phoenix\, AZ\, 85004\, United States
CATEGORIES:Public Event
END:VEVENT
BEGIN:VEVENT
DTSTART;TZID=America/Phoenix:20230309T190000
DTEND;TZID=America/Phoenix:20230309T210000
DTSTAMP:20260420T103430
CREATED:20230302T003727Z
LAST-MODIFIED:20230302T004350Z
UID:3411-1678388400-1678395600@greenwoodbrews.com
SUMMARY:Paint N Sip with Reyna
DESCRIPTION:Join Reyna as she teaches you how to paint Frida Kahlo in honor of Women’s History Month. \nBuy tickets here: https://www.reynaberrelleza.com/collection1 \nDress in layers! We have heaters!
URL:https://greenwoodbrews.com/event/paint-n-sip-with-reyna-2/
CATEGORIES:Public Event
ATTACH;FMTTYPE=image/jpeg:https://greenwoodbrews.com/wp-content/uploads/2023/03/1f04d1f6-82dc-48f2-98e3-dfdf6c6becf6.jpg
END:VEVENT
BEGIN:VEVENT
DTSTART;TZID=America/Phoenix:20230309T190000
DTEND;TZID=America/Phoenix:20230309T210000
DTSTAMP:20260420T103430
CREATED:20230202T225531Z
LAST-MODIFIED:20230202T225542Z
UID:3254-1678388400-1678395600@greenwoodbrews.com
SUMMARY:Paint N Sip With Reyna
DESCRIPTION:
URL:https://greenwoodbrews.com/event/paint-n-sip/
LOCATION:Greenwood Garden\, 425 E Roosevelt St.\, Phoenix\, AZ\, 85004\, United States
CATEGORIES:Public Event
END:VEVENT
BEGIN:VEVENT
DTSTART;VALUE=DATE:20230308
DTEND;VALUE=DATE:20230309
DTSTAMP:20260420T103430
CREATED:20230202T225309Z
LAST-MODIFIED:20230221T185234Z
UID:3252-1678233600-1678319999@greenwoodbrews.com
SUMMARY:International Women's Day Celebration
DESCRIPTION:Celebrate Women’s History Month at Greenwood Brewing! Live music\, beer specials\, and a celebration of all Women.
URL:https://greenwoodbrews.com/event/arizona-talks-2/
LOCATION:Greenwood Garden\, 425 E Roosevelt St.\, Phoenix\, AZ\, 85004\, United States
CATEGORIES:Private Event
END:VEVENT
BEGIN:VEVENT
DTSTART;TZID=America/Phoenix:20230307T190000
DTEND;TZID=America/Phoenix:20230307T210000
DTSTAMP:20260420T103430
CREATED:20230202T223347Z
LAST-MODIFIED:20230202T223347Z
UID:3230-1678215600-1678222800@greenwoodbrews.com
SUMMARY:Trivia Tuesdays!
DESCRIPTION:
URL:https://greenwoodbrews.com/event/trivia-tuesdays-10/
LOCATION:Greenwood Garden\, 425 E Roosevelt St.\, Phoenix\, AZ\, 85004\, United States
CATEGORIES:Public Event
ATTACH;FMTTYPE=image/jpeg:https://greenwoodbrews.com/wp-content/uploads/2022/12/holidaymarket_2022_2_trivia_sm.jpg
END:VEVENT
BEGIN:VEVENT
DTSTART;VALUE=DATE:20230305
DTEND;VALUE=DATE:20230306
DTSTAMP:20260420T103430
CREATED:20230202T224701Z
LAST-MODIFIED:20230202T224701Z
UID:3243-1677974400-1678060799@greenwoodbrews.com
SUMMARY:Sunday Funday!
DESCRIPTION:
URL:https://greenwoodbrews.com/event/sunday-funday-15/
LOCATION:Greenwood Garden\, 425 E Roosevelt St.\, Phoenix\, AZ\, 85004\, United States
CATEGORIES:Public Event
ATTACH;FMTTYPE=image/jpeg:https://greenwoodbrews.com/wp-content/uploads/2023/02/sundayfunday2023.jpg
END:VEVENT
BEGIN:VEVENT
DTSTART;TZID=America/Phoenix:20230304T090000
DTEND;TZID=America/Phoenix:20230304T180000
DTSTAMP:20260420T103430
CREATED:20230221T185553Z
LAST-MODIFIED:20230221T185553Z
UID:3393-1677920400-1677952800@greenwoodbrews.com
SUMMARY:Women's Expo at Phoenix Convention Center
DESCRIPTION:Check out Greenwood Brewing at the Phoenix Convention Center from 9AM-6PM
URL:https://greenwoodbrews.com/event/womens-expo-at-phoenix-convention-center/
END:VEVENT
BEGIN:VEVENT
DTSTART;TZID=America/Phoenix:20230302T170000
DTEND;TZID=America/Phoenix:20230302T210000
DTSTAMP:20260420T103430
CREATED:20230302T000656Z
LAST-MODIFIED:20230302T000656Z
UID:3408-1677776400-1677790800@greenwoodbrews.com
SUMMARY:Gold. Glamour. Gourmet. Celebrate Women's History Month with AZ Women in Food
DESCRIPTION:Phoenix Metro Celebration- Gold. Glamour. Gourmet.\nTasting stations\, wine\, cocktails\, DJ\, Burlesque entertainment\, and an all around good time with our family of women entrepreneurs in Food and Drink.\nThursday\, March 2nd\, 5-9pm\nat The Farish House in downtown Phoenix\n816 N 3rd St. Phx AZ 85004 \nBuy Tickets Here: https://www.exploretock.com/thefarishhouse/event/389968/gold-glamour-gourmet-celebrate-womens-history-month-with-az-women-in-food 
URL:https://greenwoodbrews.com/event/gold-glamour-gourmet-celebrate-womens-history-month-with-az-women-in-food/
ATTACH;FMTTYPE=image/jpeg:https://greenwoodbrews.com/wp-content/uploads/2023/03/celebrate-scaled-e1677715603489.jpg
END:VEVENT
BEGIN:VEVENT
DTSTART;TZID=America/Phoenix:20230301T190000
DTEND;TZID=America/Phoenix:20230301T220000
DTSTAMP:20260420T103430
CREATED:20230202T225226Z
LAST-MODIFIED:20230202T225226Z
UID:3250-1677697200-1677708000@greenwoodbrews.com
SUMMARY:DJ Wednesdays!
DESCRIPTION:
URL:https://greenwoodbrews.com/event/dj-wednesdays-3/
LOCATION:Greenwood Garden\, 425 E Roosevelt St.\, Phoenix\, AZ\, 85004\, United States
CATEGORIES:Public Event
ATTACH;FMTTYPE=image/jpeg:https://greenwoodbrews.com/wp-content/uploads/2023/02/44dfd57f-5d2f-4d33-9d0c-2f427b88b894.jpg
END:VEVENT
BEGIN:VEVENT
DTSTART;VALUE=DATE:20230301
DTEND;VALUE=DATE:20230401
DTSTAMP:20260420T103430
CREATED:20230113T173030Z
LAST-MODIFIED:20230313T235356Z
UID:3159-1677628800-1680307199@greenwoodbrews.com
SUMMARY:Women's HERstory Month
DESCRIPTION:
URL:https://greenwoodbrews.com/event/womens-herstory-month/
LOCATION:Greenwood Brewery\, 425 E Roosevelt St.\, Phoenix\, AZ\, 85004\, United States
CATEGORIES:Public Event
ATTACH;FMTTYPE=image/jpeg:https://greenwoodbrews.com/wp-content/uploads/2023/01/whm_line-up-e1678751213428.jpg
END:VEVENT
BEGIN:VEVENT
DTSTART;TZID=America/Phoenix:20230228T190000
DTEND;TZID=America/Phoenix:20230228T210000
DTSTAMP:20260420T103430
CREATED:20230202T223133Z
LAST-MODIFIED:20230202T223257Z
UID:3228-1677610800-1677618000@greenwoodbrews.com
SUMMARY:Trivia Tuesdays!
DESCRIPTION:
URL:https://greenwoodbrews.com/event/trivia-tuesdays-9/
LOCATION:Greenwood Garden\, 425 E Roosevelt St.\, Phoenix\, AZ\, 85004\, United States
CATEGORIES:Public Event
ATTACH;FMTTYPE=image/jpeg:https://greenwoodbrews.com/wp-content/uploads/2022/12/holidaymarket_2022_2_trivia_sm.jpg
END:VEVENT
BEGIN:VEVENT
DTSTART;TZID=America/Phoenix:20230227T173000
DTEND;TZID=America/Phoenix:20230227T190000
DTSTAMP:20260420T103430
CREATED:20230203T204857Z
LAST-MODIFIED:20230203T204857Z
UID:3293-1677519000-1677524400@greenwoodbrews.com
SUMMARY:AF-Phoenix | Fireside Chat with Tim Sandefur\, Author of Freedom's Furies
DESCRIPTION:America’s Future event: https://www.eventbrite.com/e/af-phoenix-fireside-chat-with-tim-sandefur-author-of-freedoms-furies-tickets-519868078417
URL:https://greenwoodbrews.com/event/af-phoenix-fireside-chat-with-tim-sandefur-author-of-freedoms-furies/
LOCATION:Greenwood Garden\, 425 E Roosevelt St.\, Phoenix\, AZ\, 85004\, United States
CATEGORIES:Public Event
ATTACH;FMTTYPE=image/png:https://greenwoodbrews.com/wp-content/uploads/2023/02/screen-shot-2023-02-03-at-1.48.11-pm.png
END:VEVENT
BEGIN:VEVENT
DTSTART;TZID=America/Phoenix:20230226T093000
DTEND;TZID=America/Phoenix:20230226T103000
DTSTAMP:20260420T103430
CREATED:20230202T225928Z
LAST-MODIFIED:20230202T225928Z
UID:3257-1677403800-1677407400@greenwoodbrews.com
SUMMARY:Desert MVMT X GWB
DESCRIPTION:Sign up details coming soon!
URL:https://greenwoodbrews.com/event/desert-mvmt-x-gwb/
LOCATION:Greenwood Garden\, 425 E Roosevelt St.\, Phoenix\, AZ\, 85004\, United States
CATEGORIES:Public Event
ATTACH;FMTTYPE=image/jpeg:https://greenwoodbrews.com/wp-content/uploads/2023/02/final-9497.jpg
END:VEVENT
BEGIN:VEVENT
DTSTART;VALUE=DATE:20230226
DTEND;VALUE=DATE:20230227
DTSTAMP:20260420T103430
CREATED:20230202T224553Z
LAST-MODIFIED:20230202T224553Z
UID:3241-1677369600-1677455999@greenwoodbrews.com
SUMMARY:Sunday Funday!
DESCRIPTION:
URL:https://greenwoodbrews.com/event/sunday-funday-14/
LOCATION:Greenwood Garden\, 425 E Roosevelt St.\, Phoenix\, AZ\, 85004\, United States
CATEGORIES:Public Event
ATTACH;FMTTYPE=image/jpeg:https://greenwoodbrews.com/wp-content/uploads/2023/02/sundayfunday2023.jpg
END:VEVENT
BEGIN:VEVENT
DTSTART;TZID=America/Phoenix:20230225T180000
DTEND;TZID=America/Phoenix:20230225T220000
DTSTAMP:20260420T103430
CREATED:20230206T230743Z
LAST-MODIFIED:20230206T230743Z
UID:3337-1677348000-1677362400@greenwoodbrews.com
SUMMARY:Food truck: Flavors Vegan
DESCRIPTION:
URL:https://greenwoodbrews.com/event/food-truck-flavors-vegan-3/
LOCATION:Food Trucks\, 425 E Roosevelt St.\, Phoenix\, AZ\, 85004\, United States
CATEGORIES:Food Truck
ATTACH;FMTTYPE=image/png:https://greenwoodbrews.com/wp-content/uploads/2022/07/screen-shot-2022-07-05-at-4.46.22-pm-e1675724670627.png
END:VEVENT
BEGIN:VEVENT
DTSTART;TZID=America/Phoenix:20230224T180000
DTEND;TZID=America/Phoenix:20230224T220000
DTSTAMP:20260420T103430
CREATED:20230202T230456Z
LAST-MODIFIED:20230202T230456Z
UID:3260-1677261600-1677276000@greenwoodbrews.com
SUMMARY:Food Truck: Tacos La Familia
DESCRIPTION:
URL:https://greenwoodbrews.com/event/food-truck-tacos-la-familia/
LOCATION:Food Trucks\, 425 E Roosevelt St.\, Phoenix\, AZ\, 85004\, United States
CATEGORIES:Public Event
ATTACH;FMTTYPE=image/jpeg:https://greenwoodbrews.com/wp-content/uploads/2023/02/img_9145.jpg
END:VEVENT
BEGIN:VEVENT
DTSTART;TZID=America/Phoenix:20230224T110000
DTEND;TZID=America/Phoenix:20230226T220000
DTSTAMP:20260420T103430
CREATED:20230217T220250Z
LAST-MODIFIED:20230217T220706Z
UID:3384-1677236400-1677448800@greenwoodbrews.com
SUMMARY:LA JEFAWEIZEN LAUNCH
DESCRIPTION:La Jefaweizen (4.72% ABV\, 14% IBU) \nDescription: She’s the boss. This crisp German-style wheat beer is a refreshing sip of fruit and spice. With notes of banana\, clove and bubblegum\, she’s equipped to close deals left and right. \nCome celebrate her arrival 02/24-02/26 \nMusic:\n02/24 Rio Grande 7-9pm\n02/25 Soulitify 2-4pm\n02/26 Cori Rios 2-4pm \nFood:\n02/24 Tacos La Familia 6-10pm\n02/25 Flavors Vegan 6-10pm\n02/26 In The Now 1-4pm \nDesert MVMT (FREE) Outdoor MVMT\nSunday\, Feb. 26 9:30am (Sign up with Desert MVMT: https://desertmvmt.com/schedule)
URL:https://greenwoodbrews.com/event/la-jefaweizen-launch/
LOCATION:Greenwood Brewery\, 425 E Roosevelt St.\, Phoenix\, AZ\, 85004\, United States
CATEGORIES:Public Event
ATTACH;FMTTYPE=image/png:https://greenwoodbrews.com/wp-content/uploads/2023/02/beeretto-e1676667821728.png
ORGANIZER;CN="Greenwood Brewing":MAILTO:events@greenwoodbrews.com
END:VEVENT
BEGIN:VEVENT
DTSTART;TZID=America/Phoenix:20230223T160000
DTEND;TZID=America/Phoenix:20230223T230000
DTSTAMP:20260420T103430
CREATED:20230221T194854Z
LAST-MODIFIED:20230221T195322Z
UID:3395-1677168000-1677193200@greenwoodbrews.com
SUMMARY:Neighborhood Night!
DESCRIPTION:
URL:https://greenwoodbrews.com/event/neighborhood-night/
CATEGORIES:Public Event
ATTACH;FMTTYPE=image/jpeg:https://greenwoodbrews.com/wp-content/uploads/2023/02/yellow-brown-thin-lined-frames-bright-type-self-care-affirmations-self-care-instagram-post.jpg
ORGANIZER;CN="Greenwood Brewing":MAILTO:events@greenwoodbrews.com
END:VEVENT
BEGIN:VEVENT
DTSTART;TZID=America/Phoenix:20230222T190000
DTEND;TZID=America/Phoenix:20230222T220000
DTSTAMP:20260420T103430
CREATED:20230202T225042Z
LAST-MODIFIED:20230202T225042Z
UID:3248-1677092400-1677103200@greenwoodbrews.com
SUMMARY:DJ Wednesdays!
DESCRIPTION:
URL:https://greenwoodbrews.com/event/dj-wednesdays-2/
LOCATION:Greenwood Garden\, 425 E Roosevelt St.\, Phoenix\, AZ\, 85004\, United States
CATEGORIES:Public Event
ATTACH;FMTTYPE=image/jpeg:https://greenwoodbrews.com/wp-content/uploads/2023/02/44dfd57f-5d2f-4d33-9d0c-2f427b88b894.jpg
END:VEVENT
BEGIN:VEVENT
DTSTART;TZID=America/Phoenix:20230221T190000
DTEND;TZID=America/Phoenix:20230221T210000
DTSTAMP:20260420T103430
CREATED:20230202T222022Z
LAST-MODIFIED:20230202T222618Z
UID:3226-1677006000-1677013200@greenwoodbrews.com
SUMMARY:Trivia Tuesdays!
DESCRIPTION:
URL:https://greenwoodbrews.com/event/trivia-tuesdays-8/
LOCATION:Greenwood Garden\, 425 E Roosevelt St.\, Phoenix\, AZ\, 85004\, United States
CATEGORIES:Public Event
ATTACH;FMTTYPE=image/jpeg:https://greenwoodbrews.com/wp-content/uploads/2022/12/holidaymarket_2022_2_trivia_sm.jpg
END:VEVENT
BEGIN:VEVENT
DTSTART;VALUE=DATE:20230219
DTEND;VALUE=DATE:20230220
DTSTAMP:20260420T103430
CREATED:20230202T224519Z
LAST-MODIFIED:20230202T224519Z
UID:3239-1676764800-1676851199@greenwoodbrews.com
SUMMARY:Sunday Funday!
DESCRIPTION:
URL:https://greenwoodbrews.com/event/sunday-funday-13/
LOCATION:Greenwood Garden\, 425 E Roosevelt St.\, Phoenix\, AZ\, 85004\, United States
CATEGORIES:Public Event
ATTACH;FMTTYPE=image/jpeg:https://greenwoodbrews.com/wp-content/uploads/2023/02/sundayfunday2023.jpg
END:VEVENT
BEGIN:VEVENT
DTSTART;TZID=America/Phoenix:20230218T180000
DTEND;TZID=America/Phoenix:20230218T220000
DTSTAMP:20260420T103430
CREATED:20230206T230458Z
LAST-MODIFIED:20230206T230458Z
UID:3333-1676743200-1676757600@greenwoodbrews.com
SUMMARY:Food truck: Flavors Vegan
DESCRIPTION:
URL:https://greenwoodbrews.com/event/food-truck-flavors-vegan/
LOCATION:Food Trucks\, 425 E Roosevelt St.\, Phoenix\, AZ\, 85004\, United States
CATEGORIES:Public Event
ATTACH;FMTTYPE=image/png:https://greenwoodbrews.com/wp-content/uploads/2022/07/screen-shot-2022-07-05-at-4.46.22-pm-e1675724670627.png
END:VEVENT
BEGIN:VEVENT
DTSTART;TZID=America/Phoenix:20230218T170000
DTEND;TZID=America/Phoenix:20230218T200000
DTSTAMP:20260420T103430
CREATED:20230202T230612Z
LAST-MODIFIED:20230202T230612Z
UID:3265-1676739600-1676750400@greenwoodbrews.com
SUMMARY:Private Event in the Beer Garden
DESCRIPTION:
URL:https://greenwoodbrews.com/event/private-event-in-the-beer-garden-6/
LOCATION:Greenwood Garden\, 425 E Roosevelt St.\, Phoenix\, AZ\, 85004\, United States
CATEGORIES:Private Event
END:VEVENT
END:VCALENDAR