BEGIN:VCALENDAR
VERSION:2.0
PRODID:-//Greenwood Brewing - ECPv6.15.20//NONSGML v1.0//EN
CALSCALE:GREGORIAN
METHOD:PUBLISH
X-WR-CALNAME:Greenwood Brewing
X-ORIGINAL-URL:https://greenwoodbrews.com
X-WR-CALDESC:Events for Greenwood Brewing
REFRESH-INTERVAL;VALUE=DURATION:PT1H
X-Robots-Tag:noindex
X-PUBLISHED-TTL:PT1H
BEGIN:VTIMEZONE
TZID:America/Phoenix
BEGIN:STANDARD
TZOFFSETFROM:-0700
TZOFFSETTO:-0700
TZNAME:MST
DTSTART:20220101T000000
END:STANDARD
END:VTIMEZONE
BEGIN:VEVENT
DTSTART;TZID=America/Phoenix:20230601T180000
DTEND;TZID=America/Phoenix:20230601T200000
DTSTAMP:20260420T060308
CREATED:20230526T220107Z
LAST-MODIFIED:20230531T184435Z
UID:3797-1685642400-1685649600@greenwoodbrews.com
SUMMARY:Gallery Opening Night: Ana
DESCRIPTION:
URL:https://greenwoodbrews.com/event/gallery-opening-night/
CATEGORIES:Public Event
ATTACH;FMTTYPE=image/png:https://greenwoodbrews.com/wp-content/uploads/2023/05/featured-artist-instagram-post-.png
END:VEVENT
BEGIN:VEVENT
DTSTART;TZID=America/Phoenix:20230530T190000
DTEND;TZID=America/Phoenix:20230530T210000
DTSTAMP:20260420T060308
CREATED:20230510T030812Z
LAST-MODIFIED:20230510T030812Z
UID:3691-1685473200-1685480400@greenwoodbrews.com
SUMMARY:Trivia!
DESCRIPTION:
URL:https://greenwoodbrews.com/event/trivia-8/
LOCATION:Greenwood Garden\, 425 E Roosevelt St.\, Phoenix\, AZ\, 85004\, United States
CATEGORIES:Public Event
ATTACH;FMTTYPE=image/jpeg:https://greenwoodbrews.com/wp-content/uploads/2022/12/holidaymarket_2022_2_trivia_sm.jpg
END:VEVENT
BEGIN:VEVENT
DTSTART;TZID=America/Phoenix:20230527T120000
DTEND;TZID=America/Phoenix:20230527T200000
DTSTAMP:20260420T060308
CREATED:20230510T034906Z
LAST-MODIFIED:20230526T002536Z
UID:3726-1685188800-1685217600@greenwoodbrews.com
SUMMARY:1950's Beach Party! Memorial Day Weekend
DESCRIPTION:Shandys  and BYO Picnic or use QR codes on our tables to order from local eateries (direct to your table!).
URL:https://greenwoodbrews.com/event/1950s-beach-party-memorial-day-weekend/
LOCATION:Greenwood Garden\, 425 E Roosevelt St.\, Phoenix\, AZ\, 85004\, United States
CATEGORIES:Public Event
ATTACH;FMTTYPE=image/png:https://greenwoodbrews.com/wp-content/uploads/2023/05/yellow-pink-retro-beach-vibes-tote-bag-instagram-post-square-instagram-story-instagram-post-square.png
END:VEVENT
BEGIN:VEVENT
DTSTART;TZID=America/Phoenix:20230526T180000
DTEND;TZID=America/Phoenix:20230526T210000
DTSTAMP:20260420T060308
CREATED:20230510T034448Z
LAST-MODIFIED:20230526T002451Z
UID:3713-1685124000-1685134800@greenwoodbrews.com
SUMMARY:Summer Sunset Concert Series Kick Off!
DESCRIPTION:
URL:https://greenwoodbrews.com/event/summer-sunset-concert-series-kick-off/
LOCATION:Greenwood Garden\, 425 E Roosevelt St.\, Phoenix\, AZ\, 85004\, United States
CATEGORIES:Public Event
ATTACH;FMTTYPE=image/png:https://greenwoodbrews.com/wp-content/uploads/2023/05/colorful-minimalist-landscape-sunset-on-the-beach-poster-instagram-post-portrait-e1685060298148.png
END:VEVENT
BEGIN:VEVENT
DTSTART;TZID=America/Phoenix:20230525T180000
DTEND;TZID=America/Phoenix:20230525T210000
DTSTAMP:20260420T060308
CREATED:20230510T033707Z
LAST-MODIFIED:20230510T041433Z
UID:3710-1685037600-1685048400@greenwoodbrews.com
SUMMARY:Kick Off to Memorial Day Weekend: Euchre Tournament
DESCRIPTION:Sign-up: https://www.eventbrite.com/e/kick-off-to-memorial-day-weekend-euchre-tournament-tickets-633788828447
URL:https://greenwoodbrews.com/event/kick-off-to-memorial-day-weekend-euchre-tournament/
CATEGORIES:Public Event
ATTACH;FMTTYPE=image/jpeg:https://greenwoodbrews.com/wp-content/uploads/2023/05/euchre.jpg
END:VEVENT
BEGIN:VEVENT
DTSTART;TZID=America/Phoenix:20230523T190000
DTEND;TZID=America/Phoenix:20230523T210000
DTSTAMP:20260420T060308
CREATED:20230510T030715Z
LAST-MODIFIED:20230510T030715Z
UID:3689-1684868400-1684875600@greenwoodbrews.com
SUMMARY:Trivia!
DESCRIPTION:
URL:https://greenwoodbrews.com/event/trivia-6/
LOCATION:Greenwood Garden\, 425 E Roosevelt St.\, Phoenix\, AZ\, 85004\, United States
CATEGORIES:Public Event
ATTACH;FMTTYPE=image/jpeg:https://greenwoodbrews.com/wp-content/uploads/2022/12/holidaymarket_2022_2_trivia_sm.jpg
END:VEVENT
BEGIN:VEVENT
DTSTART;VALUE=DATE:20230522
DTEND;VALUE=DATE:20230530
DTSTAMP:20260420T060308
CREATED:20230510T033347Z
LAST-MODIFIED:20230510T033408Z
UID:3706-1684713600-1685404799@greenwoodbrews.com
SUMMARY:Lake Day Specials — $29.99 for 2 (12 Can Variety Packs)
DESCRIPTION:Get two variety 12-packs for $29.99 + two for one $10.99 16 4-packs! \n 
URL:https://greenwoodbrews.com/event/lake-day-specials-29-99-for-2-12-can-variety-packs/
CATEGORIES:Public Event
ATTACH;FMTTYPE=image/jpeg:https://greenwoodbrews.com/wp-content/uploads/2023/05/000428470005-e1683689400446.jpg
END:VEVENT
BEGIN:VEVENT
DTSTART;TZID=America/Phoenix:20230520T140000
DTEND;TZID=America/Phoenix:20230520T180000
DTSTAMP:20260420T060308
CREATED:20230510T032552Z
LAST-MODIFIED:20230510T032552Z
UID:3703-1684591200-1684605600@greenwoodbrews.com
SUMMARY:Beers and Cake! Megan's Birthday Party
DESCRIPTION:HOSTED BY MEGAN GREENWOOD \nMegan will be there and\, even better\, she’s bringing sheet cake (everyone’s favorite)! Greenwood Brewing will have $5.55 beer specials on select tasty brews to help her celebrate. Free parking on 5th street and Portland (north of Roosevelt). \nCOME CELEBRATE OUR OWNER AND FOUNDER’S BIRTHDAY WITH HER!
URL:https://greenwoodbrews.com/event/beers-and-cake-megans-birthday-party/
LOCATION:Greenwood Garden\, 425 E Roosevelt St.\, Phoenix\, AZ\, 85004\, United States
CATEGORIES:Public Event
ATTACH;FMTTYPE=image/png:https://greenwoodbrews.com/wp-content/uploads/2023/05/screenshot-2023-05-09-at-8.22.58-pm-e1683689130215.png
END:VEVENT
BEGIN:VEVENT
DTSTART;TZID=America/Phoenix:20230519T163000
DTEND;TZID=America/Phoenix:20230519T183000
DTSTAMP:20260420T060308
CREATED:20230517T034121Z
LAST-MODIFIED:20230517T034121Z
UID:3753-1684513800-1684521000@greenwoodbrews.com
SUMMARY:Private Event in the Beer Garden
DESCRIPTION:Content is protected.
URL:https://greenwoodbrews.com/event/private-event-in-the-beer-garden-14/
LOCATION:Greenwood Garden\, 425 E Roosevelt St.\, Phoenix\, AZ\, 85004\, United States
CATEGORIES:Private Event
END:VEVENT
BEGIN:VEVENT
DTSTART;TZID=America/Phoenix:20230516T190000
DTEND;TZID=America/Phoenix:20230516T210000
DTSTAMP:20260420T060308
CREATED:20230510T030548Z
LAST-MODIFIED:20230510T030548Z
UID:3687-1684263600-1684270800@greenwoodbrews.com
SUMMARY:Triva!
DESCRIPTION:
URL:https://greenwoodbrews.com/event/triva/
LOCATION:Greenwood Garden\, 425 E Roosevelt St.\, Phoenix\, AZ\, 85004\, United States
CATEGORIES:Public Event
ATTACH;FMTTYPE=image/jpeg:https://greenwoodbrews.com/wp-content/uploads/2022/12/holidaymarket_2022_2_trivia_sm.jpg
END:VEVENT
BEGIN:VEVENT
DTSTART;VALUE=DATE:20230514
DTEND;VALUE=DATE:20230515
DTSTAMP:20260420T060308
CREATED:20230404T225432Z
LAST-MODIFIED:20230404T225432Z
UID:3629-1684022400-1684108799@greenwoodbrews.com
SUMMARY:Sunday Funday!
DESCRIPTION:Live Music 2-4pm\, $10 flights all day long
URL:https://greenwoodbrews.com/event/sunday-funday-24/
LOCATION:Greenwood Garden\, 425 E Roosevelt St.\, Phoenix\, AZ\, 85004\, United States
CATEGORIES:Public Event
ATTACH;FMTTYPE=image/jpeg:https://greenwoodbrews.com/wp-content/uploads/2023/04/sunday-funday-v.1-scaled-e1680648600105.jpg
END:VEVENT
BEGIN:VEVENT
DTSTART;TZID=America/Phoenix:20230512T190000
DTEND;TZID=America/Phoenix:20230512T210000
DTSTAMP:20260420T060308
CREATED:20230510T031404Z
LAST-MODIFIED:20230510T031622Z
UID:3697-1683918000-1683925200@greenwoodbrews.com
SUMMARY:Live Music in the Garden!
DESCRIPTION:
URL:https://greenwoodbrews.com/event/live-music-in-the-garden/
LOCATION:Greenwood Garden\, 425 E Roosevelt St.\, Phoenix\, AZ\, 85004\, United States
CATEGORIES:Public Event
ATTACH;FMTTYPE=image/jpeg:https://greenwoodbrews.com/wp-content/uploads/2023/05/photo-output_0-e1683688397123.jpg
END:VEVENT
BEGIN:VEVENT
DTSTART;TZID=America/Phoenix:20230509T190000
DTEND;TZID=America/Phoenix:20230509T210000
DTSTAMP:20260420T060308
CREATED:20230404T224545Z
LAST-MODIFIED:20230404T224619Z
UID:3614-1683658800-1683666000@greenwoodbrews.com
SUMMARY:Trivia!
DESCRIPTION:
URL:https://greenwoodbrews.com/event/trivia-7/
LOCATION:Greenwood Garden\, 425 E Roosevelt St.\, Phoenix\, AZ\, 85004\, United States
CATEGORIES:Public Event
ATTACH;FMTTYPE=image/jpeg:https://greenwoodbrews.com/wp-content/uploads/2022/12/holidaymarket_2022_2_trivia_sm.jpg
END:VEVENT
BEGIN:VEVENT
DTSTART;TZID=America/Phoenix:20230509T080000
DTEND;TZID=America/Phoenix:20230509T170000
DTSTAMP:20260420T060308
CREATED:20230510T031829Z
LAST-MODIFIED:20230510T031950Z
UID:3701-1683619200-1683651600@greenwoodbrews.com
SUMMARY:Mother's Day Yoga in the Garden
DESCRIPTION:Come get your groove on with a vinyasa flow in the Greenwood Garden + complimentary pint or beermosa! (beer 21+) \nJulia S.\, RYT 200 (registered yoga teacher) will guide you through a 45-min vinyasa flow in the Greenwood Brewing beer garden turned outdoor yoga studio! Good vibes only. Class is followed with a complimentary pint or beermosa! \nPlease bring your own mats (not provided)\, ID and wear clothes easy to move in. \nSecure your spot by grabbing tickets! \nTickets here: https://www.eventbrite.com/e/sunday-yoga-greenwood-brewing-happy-mothers-day-tickets-627436257737
URL:https://greenwoodbrews.com/event/mothers-day-yoga-in-the-garden/
CATEGORIES:Public Event
ATTACH;FMTTYPE=image/jpeg:https://greenwoodbrews.com/wp-content/uploads/2022/06/img_1611-scaled-e1662732770559.jpg
END:VEVENT
BEGIN:VEVENT
DTSTART;VALUE=DATE:20230507
DTEND;VALUE=DATE:20230508
DTSTAMP:20260420T060308
CREATED:20230404T225356Z
LAST-MODIFIED:20230404T225356Z
UID:3627-1683417600-1683503999@greenwoodbrews.com
SUMMARY:Sunday Funday!
DESCRIPTION:Live Music 2-4pm\, $10 flights all day long
URL:https://greenwoodbrews.com/event/sunday-funday-23/
LOCATION:Greenwood Garden\, 425 E Roosevelt St.\, Phoenix\, AZ\, 85004\, United States
CATEGORIES:Public Event
ATTACH;FMTTYPE=image/jpeg:https://greenwoodbrews.com/wp-content/uploads/2023/04/sunday-funday-v.1-scaled-e1680648600105.jpg
END:VEVENT
BEGIN:VEVENT
DTSTART;TZID=America/Phoenix:20230506T130000
DTEND;TZID=America/Phoenix:20230506T170000
DTSTAMP:20260420T060308
CREATED:20230413T193021Z
LAST-MODIFIED:20230413T193021Z
UID:3644-1683378000-1683392400@greenwoodbrews.com
SUMMARY:Private Event in the Beer Garden
DESCRIPTION:Content is protected.
URL:https://greenwoodbrews.com/event/private-event-in-the-beer-garden-13/
LOCATION:Greenwood Garden\, 425 E Roosevelt St.\, Phoenix\, AZ\, 85004\, United States
CATEGORIES:Private Event
END:VEVENT
BEGIN:VEVENT
DTSTART;TZID=America/Phoenix:20230430T093000
DTEND;TZID=America/Phoenix:20230430T103000
DTSTAMP:20260420T060308
CREATED:20230405T220004Z
LAST-MODIFIED:20230405T220004Z
UID:3639-1682847000-1682850600@greenwoodbrews.com
SUMMARY:Burn & Brews
DESCRIPTION:Pop-Up Workout at Greenwood Brewing! Ticket includes one mini beer to treat yourself after class. \nAbout the event\nRSVP for a 60min BURN class by Kait at Greenwood Brewing! Weights will be provided\, all you need to bring is your mat and a water bottle. This is an outdoor event. Ticket includes one mini beer of your choice! \nBURN by Ritual Vitality is a full-body workout. This class is a Barre-inspired workout that incorporates elements of Yoga\, Pilates\, and Strength Training. BURN is high-energry\, yet low-impact\, and is suitable for all ability levels. Be ready to sweat and have fun! \nPurchase your ticket here: https://www.ritualvitality.com/event-details-registration/burn-brews-workout-at-greenwood-2
URL:https://greenwoodbrews.com/event/burn-brews/
LOCATION:Greenwood Garden\, 425 E Roosevelt St.\, Phoenix\, AZ\, 85004\, United States
ATTACH;FMTTYPE=image/png:https://greenwoodbrews.com/wp-content/uploads/2023/04/screen-shot-2023-04-05-at-2.58.25-pm-e1680731984661.png
END:VEVENT
BEGIN:VEVENT
DTSTART;VALUE=DATE:20230430
DTEND;VALUE=DATE:20230501
DTSTAMP:20260420T060308
CREATED:20230404T225312Z
LAST-MODIFIED:20230404T225312Z
UID:3625-1682812800-1682899199@greenwoodbrews.com
SUMMARY:Sunday Funday!
DESCRIPTION:Live Music 2-4pm\, $10 flights all day long
URL:https://greenwoodbrews.com/event/sunday-funday-22/
LOCATION:Greenwood Garden\, 425 E Roosevelt St.\, Phoenix\, AZ\, 85004\, United States
CATEGORIES:Public Event
ATTACH;FMTTYPE=image/jpeg:https://greenwoodbrews.com/wp-content/uploads/2023/04/sunday-funday-v.1-scaled-e1680648600105.jpg
END:VEVENT
BEGIN:VEVENT
DTSTART;TZID=America/Phoenix:20230425T190000
DTEND;TZID=America/Phoenix:20230425T210000
DTSTAMP:20260420T060308
CREATED:20230404T223937Z
LAST-MODIFIED:20230404T223937Z
UID:3610-1682449200-1682456400@greenwoodbrews.com
SUMMARY:Trivia!
DESCRIPTION:
URL:https://greenwoodbrews.com/event/trivia-5/
LOCATION:Greenwood Garden\, 425 E Roosevelt St.\, Phoenix\, AZ\, 85004\, United States
CATEGORIES:Public Event
ATTACH;FMTTYPE=image/jpeg:https://greenwoodbrews.com/wp-content/uploads/2022/12/holidaymarket_2022_2_trivia_sm.jpg
END:VEVENT
BEGIN:VEVENT
DTSTART;TZID=America/Phoenix:20230423T093000
DTEND;TZID=America/Phoenix:20230423T223000
DTSTAMP:20260420T060308
CREATED:20230405T215345Z
LAST-MODIFIED:20230405T215345Z
UID:3637-1682242200-1682289000@greenwoodbrews.com
SUMMARY:April Sunday Yoga @ Greenwood Brewing
DESCRIPTION:Come get your groove on with a vinyasa flow in the Greenwood Garden + complimentary 4oz brew (beer 21+) \nAmy G.\, RYT 200 (registered yoga teacher) will guide you through a 45-min vinyasa flow in the Greenwood Brewing beer garden turned outdoor yoga studio! Good vibes only. Class is followed with a complimentary 4oz brew (beer is 21 and over only\, however all ages can enjoy yoga!). \nPlease bring your own mats (not provided)\, ID and wear clothes easy to move in. \nSecure your spot and sign our waiver: https://www.eventbrite.com/e/april-sunday-yoga-greenwood-brewing-tickets-610083836177 
URL:https://greenwoodbrews.com/event/april-sunday-yoga-greenwood-brewing/
LOCATION:Greenwood Garden\, 425 E Roosevelt St.\, Phoenix\, AZ\, 85004\, United States
CATEGORIES:Public Event
ATTACH;FMTTYPE=image/jpeg:https://greenwoodbrews.com/wp-content/uploads/2022/10/img_2926-scaled-e1667925826197.jpg
END:VEVENT
BEGIN:VEVENT
DTSTART;VALUE=DATE:20230423
DTEND;VALUE=DATE:20230424
DTSTAMP:20260420T060308
CREATED:20230404T225235Z
LAST-MODIFIED:20230404T225235Z
UID:3623-1682208000-1682294399@greenwoodbrews.com
SUMMARY:Sunday Funday!
DESCRIPTION:Live Music 2-4pm\, $10 flights all day long
URL:https://greenwoodbrews.com/event/sunday-funday-21/
LOCATION:Greenwood Garden\, 425 E Roosevelt St.\, Phoenix\, AZ\, 85004\, United States
CATEGORIES:Public Event
ATTACH;FMTTYPE=image/jpeg:https://greenwoodbrews.com/wp-content/uploads/2023/04/sunday-funday-v.1-scaled-e1680648600105.jpg
END:VEVENT
BEGIN:VEVENT
DTSTART;TZID=America/Phoenix:20230422T120000
DTEND;TZID=America/Phoenix:20230422T160000
DTSTAMP:20260420T060308
CREATED:20230404T230207Z
LAST-MODIFIED:20230404T230207Z
UID:3634-1682164800-1682179200@greenwoodbrews.com
SUMMARY:Reduce\, Reuse\, Recycle\, Remarket (Vendor Market)
DESCRIPTION:All vendors will be earth-friendly!
URL:https://greenwoodbrews.com/event/reduce-reuse-recycle-remarket-vendor-market/
LOCATION:Greenwood Courtyard\, 425 E Roosevelt St.\, Phoenix\, AZ\, 85004\, United States
CATEGORIES:Public Event
ATTACH;FMTTYPE=image/png:https://greenwoodbrews.com/wp-content/uploads/2023/04/green-illustrated-recycling-awareness-story-post-e1680649242617.png
END:VEVENT
BEGIN:VEVENT
DTSTART;TZID=America/Phoenix:20230418T190000
DTEND;TZID=America/Phoenix:20230418T210000
DTSTAMP:20260420T060308
CREATED:20230404T223817Z
LAST-MODIFIED:20230404T223817Z
UID:3608-1681844400-1681851600@greenwoodbrews.com
SUMMARY:Trivia!
DESCRIPTION:
URL:https://greenwoodbrews.com/event/trivia-4/
LOCATION:Greenwood Garden\, 425 E Roosevelt St.\, Phoenix\, AZ\, 85004\, United States
CATEGORIES:Public Event
ATTACH;FMTTYPE=image/jpeg:https://greenwoodbrews.com/wp-content/uploads/2022/12/holidaymarket_2022_2_trivia_sm.jpg
END:VEVENT
BEGIN:VEVENT
DTSTART;VALUE=DATE:20230416
DTEND;VALUE=DATE:20230417
DTSTAMP:20260420T060308
CREATED:20230404T225155Z
LAST-MODIFIED:20230404T225155Z
UID:3621-1681603200-1681689599@greenwoodbrews.com
SUMMARY:Sunday Funday!
DESCRIPTION:Live Music 2-4pm\, $10 flights all day long
URL:https://greenwoodbrews.com/event/sunday-funday-20/
LOCATION:Greenwood Garden\, 425 E Roosevelt St.\, Phoenix\, AZ\, 85004\, United States
CATEGORIES:Public Event
ATTACH;FMTTYPE=image/jpeg:https://greenwoodbrews.com/wp-content/uploads/2023/04/sunday-funday-v.1-scaled-e1680648600105.jpg
END:VEVENT
BEGIN:VEVENT
DTSTART;TZID=America/Phoenix:20230413T190000
DTEND;TZID=America/Phoenix:20230413T210000
DTSTAMP:20260420T060308
CREATED:20230404T225930Z
LAST-MODIFIED:20230404T225930Z
UID:3631-1681412400-1681419600@greenwoodbrews.com
SUMMARY:Paint N Sip with Reyna
DESCRIPTION:
URL:https://greenwoodbrews.com/event/paint-n-sip-with-reyna-3/
LOCATION:Greenwood Garden\, 425 E Roosevelt St.\, Phoenix\, AZ\, 85004\, United States
ATTACH;FMTTYPE=image/jpeg:https://greenwoodbrews.com/wp-content/uploads/2023/04/img_1814.jpg
END:VEVENT
BEGIN:VEVENT
DTSTART;TZID=America/Phoenix:20230411T190000
DTEND;TZID=America/Phoenix:20230411T210000
DTSTAMP:20260420T060308
CREATED:20230404T223727Z
LAST-MODIFIED:20230404T223727Z
UID:3606-1681239600-1681246800@greenwoodbrews.com
SUMMARY:Trivia!
DESCRIPTION:
URL:https://greenwoodbrews.com/event/trivia-3/
LOCATION:Greenwood Brewery\, 425 E Roosevelt St.\, Phoenix\, AZ\, 85004\, United States
CATEGORIES:Public Event
ATTACH;FMTTYPE=image/jpeg:https://greenwoodbrews.com/wp-content/uploads/2022/12/holidaymarket_2022_2_trivia_sm.jpg
END:VEVENT
BEGIN:VEVENT
DTSTART;VALUE=DATE:20230409
DTEND;VALUE=DATE:20230410
DTSTAMP:20260420T060308
CREATED:20230404T224732Z
LAST-MODIFIED:20230404T225112Z
UID:3616-1680998400-1681084799@greenwoodbrews.com
SUMMARY:Sunday Funday!
DESCRIPTION:Live Music 2-4pm\, $10 flights all day long
URL:https://greenwoodbrews.com/event/sunday-funday-19/
CATEGORIES:Public Event
ATTACH;FMTTYPE=image/jpeg:https://greenwoodbrews.com/wp-content/uploads/2023/04/sunday-funday-v.1-scaled-e1680648600105.jpg
END:VEVENT
BEGIN:VEVENT
DTSTART;TZID=America/Phoenix:20230404T190000
DTEND;TZID=America/Phoenix:20230404T210000
DTSTAMP:20260420T060308
CREATED:20230314T002806Z
LAST-MODIFIED:20230314T002806Z
UID:3473-1680634800-1680642000@greenwoodbrews.com
SUMMARY:Trivia!
DESCRIPTION:
URL:https://greenwoodbrews.com/event/trivia-2/
LOCATION:Greenwood Garden\, 425 E Roosevelt St.\, Phoenix\, AZ\, 85004\, United States
CATEGORIES:Public Event
ATTACH;FMTTYPE=image/jpeg:https://greenwoodbrews.com/wp-content/uploads/2022/08/img_2013-scaled-e1661191482977.jpg
END:VEVENT
BEGIN:VEVENT
DTSTART;TZID=America/Phoenix:20230402T080000
DTEND;TZID=America/Phoenix:20230402T170000
DTSTAMP:20260420T060308
CREATED:20230314T003147Z
LAST-MODIFIED:20230314T003147Z
UID:3479-1680422400-1680454800@greenwoodbrews.com
SUMMARY:Sunday Funday!
DESCRIPTION:$10 flights and live music 2-4pm in the Beer Garden!
URL:https://greenwoodbrews.com/event/sunday-funday-18/
CATEGORIES:Public Event
ATTACH;FMTTYPE=image/png:https://greenwoodbrews.com/wp-content/uploads/2022/09/sundayfunday_social.png
END:VEVENT
BEGIN:VEVENT
DTSTART;TZID=America/Phoenix:20230331T180000
DTEND;TZID=America/Phoenix:20230331T200000
DTSTAMP:20260420T060308
CREATED:20230314T002502Z
LAST-MODIFIED:20230322T011322Z
UID:3469-1680285600-1680292800@greenwoodbrews.com
SUMMARY:Building Careers in Beer
DESCRIPTION:To wrap up Women’s History Month\, Greenwood Brewing is hosting an inspirational\, educational and super fun panel\, Building Careers in Beer. \nThis panel of amazing women will begin at 6pm sharp in the Greenwood Brewing Beer Garden (outdoors\, in between the brewery building and taproom building)\, please find seating before the talk begins! After the panel (about 1 hour)\, we are launching our 2023 Pink Boots Blend beer that we brewed on March 8th (International Women’s Day) and having ourselves a little party! Cheers to an amazing month celebrating women and uplifting each other! Register on Eventbrite \n  \nPanel includes: \nSarah Doka (Brand Manager\, Anheuser Busch/Hensley) \nTopic: From Big Brand to Big Distributor \n  \nAshley Benson (Head Brewer\, Arizona Wilderness Brewing Co. DT PHX) \nTopic: Her Career Journey to Head Brewer \n  \nChelsey Hauston (Influencer\, Let Them Eat This) \nTopic: Going Viral on Social Media \n  \nJacque Powers (Account manager\, CANarchy Craft Brewery Collective ) \nTopic: Innovation in the Industry \n  \nKelsey Duque (Owner\, Bottleshop 48) \nTopic: Taking Ownership \n  \nLauren Thoeny (Graphic Designer\, Wren House) \nTopic: Can Art \n  \n 
URL:https://greenwoodbrews.com/event/building-careers-in-beer/
LOCATION:Greenwood Garden\, 425 E Roosevelt St.\, Phoenix\, AZ\, 85004\, United States
CATEGORIES:Public Event
ATTACH;FMTTYPE=image/jpeg:https://greenwoodbrews.com/wp-content/uploads/2023/02/greenwood-32-scaled-e1675461666420.jpg
END:VEVENT
END:VCALENDAR